BEGIN:VCALENDAR
VERSION:2.0
PRODID:-//Achievable Health - ECPv6.15.20//NONSGML v1.0//EN
CALSCALE:GREGORIAN
METHOD:PUBLISH
X-ORIGINAL-URL:https://achievablehealth.org
X-WR-CALDESC:Events for Achievable Health
REFRESH-INTERVAL;VALUE=DURATION:PT1H
X-Robots-Tag:noindex
X-PUBLISHED-TTL:PT1H
BEGIN:VTIMEZONE
TZID:America/Los_Angeles
BEGIN:DAYLIGHT
TZOFFSETFROM:-0800
TZOFFSETTO:-0700
TZNAME:PDT
DTSTART:20220313T100000
END:DAYLIGHT
BEGIN:STANDARD
TZOFFSETFROM:-0700
TZOFFSETTO:-0800
TZNAME:PST
DTSTART:20221106T090000
END:STANDARD
BEGIN:DAYLIGHT
TZOFFSETFROM:-0800
TZOFFSETTO:-0700
TZNAME:PDT
DTSTART:20230312T100000
END:DAYLIGHT
BEGIN:STANDARD
TZOFFSETFROM:-0700
TZOFFSETTO:-0800
TZNAME:PST
DTSTART:20231105T090000
END:STANDARD
BEGIN:DAYLIGHT
TZOFFSETFROM:-0800
TZOFFSETTO:-0700
TZNAME:PDT
DTSTART:20240310T100000
END:DAYLIGHT
BEGIN:STANDARD
TZOFFSETFROM:-0700
TZOFFSETTO:-0800
TZNAME:PST
DTSTART:20241103T090000
END:STANDARD
END:VTIMEZONE
BEGIN:VEVENT
DTSTART;TZID=America/Los_Angeles:20230520T180000
DTEND;TZID=America/Los_Angeles:20230520T210000
DTSTAMP:20260421T124309
CREATED:20250718T005518Z
LAST-MODIFIED:20250718T010152Z
UID:10000007-1684605600-1684616400@achievablehealth.org
SUMMARY:10th Anniversary It's Achievable Gala
DESCRIPTION:
URL:https://achievablehealth.org/event/10th-anniversary-its-achievable-gala/
LOCATION:CA
ATTACH;FMTTYPE=image/jpeg:https://achievablehealth.org/wp-content/uploads/2025/07/10th-Anniversary-Its-Achievable-Gala.jpg
END:VEVENT
END:VCALENDAR