BEGIN:VCALENDAR
VERSION:2.0
PRODID:-//Achievable Health - ECPv6.15.20//NONSGML v1.0//EN
CALSCALE:GREGORIAN
METHOD:PUBLISH
X-ORIGINAL-URL:https://achievablehealth.org
X-WR-CALDESC:Events for Achievable Health
REFRESH-INTERVAL;VALUE=DURATION:PT1H
X-Robots-Tag:noindex
X-PUBLISHED-TTL:PT1H
BEGIN:VTIMEZONE
TZID:America/Los_Angeles
BEGIN:DAYLIGHT
TZOFFSETFROM:-0800
TZOFFSETTO:-0700
TZNAME:PDT
DTSTART:20250309T100000
END:DAYLIGHT
BEGIN:STANDARD
TZOFFSETFROM:-0700
TZOFFSETTO:-0800
TZNAME:PST
DTSTART:20251102T090000
END:STANDARD
BEGIN:DAYLIGHT
TZOFFSETFROM:-0800
TZOFFSETTO:-0700
TZNAME:PDT
DTSTART:20260308T100000
END:DAYLIGHT
BEGIN:STANDARD
TZOFFSETFROM:-0700
TZOFFSETTO:-0800
TZNAME:PST
DTSTART:20261101T090000
END:STANDARD
BEGIN:DAYLIGHT
TZOFFSETFROM:-0800
TZOFFSETTO:-0700
TZNAME:PDT
DTSTART:20270314T100000
END:DAYLIGHT
BEGIN:STANDARD
TZOFFSETFROM:-0700
TZOFFSETTO:-0800
TZNAME:PST
DTSTART:20271107T090000
END:STANDARD
END:VTIMEZONE
BEGIN:VEVENT
DTSTART;TZID=America/Los_Angeles:20260327T110000
DTEND;TZID=America/Los_Angeles:20260327T170000
DTSTAMP:20260419T144332
CREATED:20260325T195403Z
LAST-MODIFIED:20260325T222522Z
UID:10000014-1774609200-1774630800@achievablehealth.org
SUMMARY:Abilities Expo
DESCRIPTION:
URL:https://achievablehealth.org/event/abilities-expo/2026-03-27/
LOCATION:Long Beach Convention Center\, Halls B & C\, 300 E Ocean Blvd\, Long Beach\, CA\, 90802\, United States
ATTACH;FMTTYPE=image/png:https://achievablehealth.org/wp-content/uploads/2026/03/Blue-Modern-Come-See-What-Learning-Looks-Like-Instagram-Post-1.png
END:VEVENT
BEGIN:VEVENT
DTSTART;TZID=America/Los_Angeles:20260328T110000
DTEND;TZID=America/Los_Angeles:20260328T170000
DTSTAMP:20260419T144332
CREATED:20260325T195403Z
LAST-MODIFIED:20260325T222522Z
UID:10000015-1774695600-1774717200@achievablehealth.org
SUMMARY:Abilities Expo
DESCRIPTION:
URL:https://achievablehealth.org/event/abilities-expo/2026-03-28/
LOCATION:Long Beach Convention Center\, Halls B & C\, 300 E Ocean Blvd\, Long Beach\, CA\, 90802\, United States
ATTACH;FMTTYPE=image/png:https://achievablehealth.org/wp-content/uploads/2026/03/Blue-Modern-Come-See-What-Learning-Looks-Like-Instagram-Post-1.png
END:VEVENT
BEGIN:VEVENT
DTSTART;TZID=America/Los_Angeles:20260329T110000
DTEND;TZID=America/Los_Angeles:20260329T170000
DTSTAMP:20260419T144332
CREATED:20260325T195403Z
LAST-MODIFIED:20260325T222522Z
UID:10000016-1774782000-1774803600@achievablehealth.org
SUMMARY:Abilities Expo
DESCRIPTION:
URL:https://achievablehealth.org/event/abilities-expo/2026-03-29/
LOCATION:Long Beach Convention Center\, Halls B & C\, 300 E Ocean Blvd\, Long Beach\, CA\, 90802\, United States
ATTACH;FMTTYPE=image/png:https://achievablehealth.org/wp-content/uploads/2026/03/Blue-Modern-Come-See-What-Learning-Looks-Like-Instagram-Post-1.png
END:VEVENT
BEGIN:VEVENT
DTSTART;TZID=America/Los_Angeles:20260418T180000
DTEND;TZID=America/Los_Angeles:20260418T213000
DTSTAMP:20260419T144332
CREATED:20260204T133017Z
LAST-MODIFIED:20260313T002219Z
UID:10000012-1776535200-1776547800@achievablehealth.org
SUMMARY:It’s Achievable Gala 2026
DESCRIPTION:Sponsorships & Tickets
URL:https://achievablehealth.org/event/its-achievable-gala-2026/
LOCATION:Marina del Rey Marriott\, 4100 Admiralty Way\, Marina Del Rey\, CA\, 90292\, United States
ATTACH;FMTTYPE=image/png:https://achievablehealth.org/wp-content/uploads/2026/02/its-achievable-gala-2026.png
END:VEVENT
END:VCALENDAR