BEGIN:VCALENDAR
VERSION:2.0
PRODID:-//Achievable Health - ECPv6.15.20//NONSGML v1.0//EN
CALSCALE:GREGORIAN
METHOD:PUBLISH
X-ORIGINAL-URL:https://achievablehealth.org
X-WR-CALDESC:Events for Achievable Health
REFRESH-INTERVAL;VALUE=DURATION:PT1H
X-Robots-Tag:noindex
X-PUBLISHED-TTL:PT1H
BEGIN:VTIMEZONE
TZID:America/Los_Angeles
BEGIN:DAYLIGHT
TZOFFSETFROM:-0800
TZOFFSETTO:-0700
TZNAME:PDT
DTSTART:20230312T100000
END:DAYLIGHT
BEGIN:STANDARD
TZOFFSETFROM:-0700
TZOFFSETTO:-0800
TZNAME:PST
DTSTART:20231105T090000
END:STANDARD
BEGIN:DAYLIGHT
TZOFFSETFROM:-0800
TZOFFSETTO:-0700
TZNAME:PDT
DTSTART:20240310T100000
END:DAYLIGHT
BEGIN:STANDARD
TZOFFSETFROM:-0700
TZOFFSETTO:-0800
TZNAME:PST
DTSTART:20241103T090000
END:STANDARD
BEGIN:DAYLIGHT
TZOFFSETFROM:-0800
TZOFFSETTO:-0700
TZNAME:PDT
DTSTART:20250309T100000
END:DAYLIGHT
BEGIN:STANDARD
TZOFFSETFROM:-0700
TZOFFSETTO:-0800
TZNAME:PST
DTSTART:20251102T090000
END:STANDARD
END:VTIMEZONE
BEGIN:VEVENT
DTSTART;TZID=America/Los_Angeles:20240413T180000
DTEND;TZID=America/Los_Angeles:20240413T210000
DTSTAMP:20260420T222156
CREATED:20250718T004945Z
LAST-MODIFIED:20250718T005000Z
UID:10000006-1713031200-1713042000@achievablehealth.org
SUMMARY:It's Achievable Gala 2024
DESCRIPTION:
URL:https://achievablehealth.org/event/its-achievable-gala-2024/
LOCATION:Marina del Rey Marriott\, 4100 Admiralty Way\, Marina Del Rey\, CA\, 90292\, United States
ATTACH;FMTTYPE=image/jpeg:https://achievablehealth.org/wp-content/uploads/2025/07/Its-Achievable-Gala-2024.jpg
END:VEVENT
END:VCALENDAR